BEGIN:VCALENDAR
VERSION:2.0
PRODID:-//Silvia Trad - ECPv6.3.4//NONSGML v1.0//EN
CALSCALE:GREGORIAN
METHOD:PUBLISH
X-ORIGINAL-URL:https://silviatrad.com
X-WR-CALDESC:Eventos para Silvia Trad
REFRESH-INTERVAL;VALUE=DURATION:PT1H
X-Robots-Tag:noindex
X-PUBLISHED-TTL:PT1H
BEGIN:VTIMEZONE
TZID:America/Sao_Paulo
BEGIN:STANDARD
TZOFFSETFROM:-0300
TZOFFSETTO:-0300
TZNAME:-03
DTSTART:20240101T000000
END:STANDARD
END:VTIMEZONE
BEGIN:VEVENT
DTSTART;VALUE=DATE:20240904
DTEND;VALUE=DATE:20240905
DTSTAMP:20260419T195855
CREATED:20240904T194315Z
LAST-MODIFIED:20240904T195721Z
UID:1682-1725408000-1725494399@silviatrad.com
SUMMARY:Curso Online - Aulas de Aquarela
DESCRIPTION:Caros amigos (as) aquarelistas\, \nNo meu curso foco em ensinar e treinar as técnicas básicas de pintura em aquarela\, explorar o mundo das cores e desenvolver uma base sólida nesta arte. \nSerão duas horas e meia de aprendizado prático e interativo. As aulas ficarão gravadas à disposição daqueles que quiserem repetir ou que por algum motivo não puderem comparecer no dia da aula. Não haverá reposições a menos que haja necessidade por parte do grupo todo. \nAs aulas acontecerão nas seguintes opções de dias e horários: Terça-feira 2 aulas no mês às 19h (Portugal) e 15h ( Brasil) ou quinta-feira 4 aulas  no mês: 18h (Portugal) / 14h (Brasil) \nOfereço duas opções de pacotes: \n– *Pacote Mensal:* 4 aulas por mês por 100 euros/ R$600\,00 \n– *Pacote Quinzenal:* 2 aulas por mês por 60 euros/ R$ 360\,00 \nMaiores informações e inscrições pelo WhatsApp 11999019545 \nVenham pintar comigo! \nEspero vê-las online em breve! \n  \nCom carinho\, \nProfessora Silvia Trad
URL:https://silviatrad.com/evento/curso-online-aulas-em-aquarela/
ATTACH;FMTTYPE=image/jpeg:https://silviatrad.com/wp-content/uploads/porta-vermelha_04-09-2024-3.jpeg
END:VEVENT
BEGIN:VEVENT
DTSTART;TZID=America/Sao_Paulo:20241009T080000
DTEND;TZID=America/Sao_Paulo:20241009T170000
DTSTAMP:20260419T195855
CREATED:20240920T202356Z
LAST-MODIFIED:20240924T183828Z
UID:1688-1728460800-1728493200@silviatrad.com
SUMMARY:Worskshop - Galáxias
DESCRIPTION:Olá Aquarelista! \nDesvende um universo de possibilidades na pintura aprendendo várias técnicas diferentes com materiais acessíveis! \nInscreva-se no Workshop Galáxias que vai acontecer na Galleria Tavolino! \nInformações: \n\nData: 09/10/2024\nHorário: das 14:00 às 17:00h\nLocal: Tavolino Jardins – Alameda Lorena\, 558\, São Paulo – SP\n\nNão é necessário ter experiência prévia em pintura ou desenho. Todos os materiais estão inclusos. \nInscrições e informações com Rita Barelli pelo whats: 11 99948 2804 \nEvento presencial.\nGaranta seu lugar! ✨ Até lá! 👋🏻👩🏻‍🎨
URL:https://silviatrad.com/evento/worskshop-galaxias/
ATTACH;FMTTYPE=image/jpeg:https://silviatrad.com/wp-content/uploads/orion_window-copiar.jpg
END:VEVENT
BEGIN:VEVENT
DTSTART;VALUE=DATE:20241014
DTEND;VALUE=DATE:20241017
DTSTAMP:20260419T195855
CREATED:20240125T155421Z
LAST-MODIFIED:20240125T155805Z
UID:1153-1728864000-1729123199@silviatrad.com
SUMMARY:Fabriano in Acquarello - International exhibition and meeting in Texas
DESCRIPTION:Texas – USA \nAguarde para mais detalhes desse evento. Datas e horários a confirmar.
URL:https://silviatrad.com/evento/fabriano-in-acquarello-international-exhibition-and-meeting-in-texas/
LOCATION:Texas\, Texas\, Estados Unidos
CATEGORIES:Exposições
ORGANIZER;CN="Silvia Trad":MAILTO:mstrad260762@gmail.com
END:VEVENT
BEGIN:VEVENT
DTSTART;VALUE=DATE:20241118
DTEND;VALUE=DATE:20241119
DTSTAMP:20260419T195855
CREATED:20241021T154104Z
LAST-MODIFIED:20241021T211434Z
UID:1694-1731888000-1731974399@silviatrad.com
SUMMARY:Workshop Aquarela Botânica - Rosa Branca
DESCRIPTION:Venha aprender a pintar uma aquarela botânica de uma rosa branca com dicas de misturas de cores e diferentes técnicas no meu workshop online! \nInformações gerais: \n\nData: 18/11/2024\n*Investimento:\n\nAté – 10/11/2024: R$ 247\,00 \nApós – 10/11/2024: R$ 301\,00 \n\nMateriais necessários: tinta aquarela nas cores azul ultramar\, magenta e amarelo; pincéis redondos nº 2 e nº 6; papel para aquarela 300g/ cold pressed\nO traçado será enviado por WhatsApp\n\nSerão duas turmas: \n\nTurma da tarde – 14 às 16:30h\nTurma da noite – 19 às 21:30h\n\nEscolha o melhor horário para você! \nFaça sua inscrição pelo \nLink da Bio do perfil @silvia.trad OU \nWhatsapp 11 99901 9545 \nWorkshop ONLINE. \nGaranta seu lugar! Vagas limitadas!
URL:https://silviatrad.com/evento/workshop-aquarela-botanica-rosa-branca/
ATTACH;FMTTYPE=image/png:https://silviatrad.com/wp-content/uploads/whatsapp_workshop-rosa-branca_18-11-2024.png
END:VEVENT
END:VCALENDAR