BEGIN:VCALENDAR
VERSION:2.0
PRODID:-//Silvia Trad - ECPv6.3.4//NONSGML v1.0//EN
CALSCALE:GREGORIAN
METHOD:PUBLISH
X-WR-CALNAME:Silvia Trad
X-ORIGINAL-URL:https://silviatrad.com
X-WR-CALDESC:Eventos para Silvia Trad
REFRESH-INTERVAL;VALUE=DURATION:PT1H
X-Robots-Tag:noindex
X-PUBLISHED-TTL:PT1H
BEGIN:VTIMEZONE
TZID:America/Sao_Paulo
BEGIN:STANDARD
TZOFFSETFROM:-0300
TZOFFSETTO:-0300
TZNAME:-03
DTSTART:20240101T000000
END:STANDARD
TZID:Europe/Lisbon
BEGIN:DAYLIGHT
TZOFFSETFROM:+0000
TZOFFSETTO:+0100
TZNAME:WEST
DTSTART:20240331T010000
END:DAYLIGHT
BEGIN:STANDARD
TZOFFSETFROM:+0100
TZOFFSETTO:+0000
TZNAME:WET
DTSTART:20241027T010000
END:STANDARD
END:VTIMEZONE
BEGIN:VEVENT
DTSTART;TZID=America/Sao_Paulo:20240304T190000
DTEND;TZID=America/Sao_Paulo:20240503T213000
DTSTAMP:20260419T110745
CREATED:20240125T143944Z
LAST-MODIFIED:20240129T005549Z
UID:1109-1709578800-1714771800@silviatrad.com
SUMMARY:Curso Fundamentos da Aquarela
DESCRIPTION:EVENTO ONLINE E AO VIVO\nCurso para iniciantes de técnicas básicas de pintura em aquarela e dos materiais existentes no mercado. \nAulas sobre materiais para aquarela: tintas\, pincéis e papéis. \nAs técnicas: lavados uniformes e gradientes\, mistura de cores\, molhado sobre molhado\, saturação e transparências\, lifting\, texturas e materiais caseiros. \nSerão 8 aulas online e ao vivo com duração de duas horas e meia cada. Capacita o aluno a iniciar sua pintura autoral na aquarela. \nTurma Tarde – quinta-feira\nDatas: 07/03/2024\, 14/03/2024\, 21/03/2024\, 28/03/2024\, 04/04/2024\, 11/04/2024\, 18/04/2024\, 25/05/2024\nPeríodo e Horário:\nTarde: 14:00hs às 16:30hs – link para matrícula do curso: https://pay.hotmart.com/C90097344Q?off=c6zfrnqm \nTurma Noite – segunda-feira\nDatas: 04/03/2024\, 11/03/2024\, 18/03/2024\, 25/03/2024\, 01/04/2024\, 08/04/2024\, 15/04/2024\, 22/04/2024 \nPeríodo e Horário:\nNoite: 19:00 às 21:30hs – link para matrícula do curso: https://pay.hotmart.com/C90097344Q?off=ka2ot047 \nTurma manhã – sexta-feira\nDatas: 08/03/2024\, 15/03/2024\, 22/03/2024\, 05/04/2024\, 12/04/2024\, 19/04/2024\, 26/04/2024\, 03/05/2024\nPeríodo e Horário:\nManhã: 9:00hs às 11:30hs – link para matrícula do curso: https://pay.hotmart.com/C90097344Q?off=noos0vmj \nFale comigo por whatsapp ; +55 11974465565\n  \nConteúdo do Curso\nMódulo 01- Materiais  \naula 1- Tintas e afins aula 02 Papéis aula 03 Pincéis \nMódulo 02 – Cores \naula 01 Círculo cromático aula 02 mistura e combinação de cores aula 03 transparência e saturação \nMódulo 03 – Transparência e saturação \naula 01 transparência e saturação \nMódulo 04 – Lavados \naula 01 lavados uniformes\, variados e gradientes \nMódulo 05​ – Reserva de Branco \naula 01 pincel seco aula 03 espátula/raspagem \nMódulo 06 – Lifting \naula 01 espátula/raspagem ​ \nMódulo 07 – Texturas e materiais caseiros  \naula 01 sal aula 02 respingos de água aula 03 respingos tinta \nMódulo 08 – Texturas e materiais caseiros \naula 01 Galáxia com materiais caseiros \n 
URL:https://silviatrad.com/evento/curso-fundamentos-da-aquarela/
CATEGORIES:Cursos
ATTACH;FMTTYPE=image/jpeg:https://silviatrad.com/wp-content/uploads/fundamentos-da-aquarela.jpg
ORGANIZER;CN="Silvia Trad":MAILTO:mstrad260762@gmail.com
END:VEVENT
BEGIN:VEVENT
DTSTART;VALUE=DATE:20240522
DTEND;VALUE=DATE:20240523
DTSTAMP:20260419T110745
CREATED:20240408T160249Z
LAST-MODIFIED:20240411T201408Z
UID:1548-1716336000-1716422399@silviatrad.com
SUMMARY:Workshop - Aquarelas Botânicas
DESCRIPTION:  \nOlá aquarelistas de Portugal! \nEstás convidado(a) para o Workshop de Aquarela Botânica\, orientado pela artista Silvia Trad. \nDetalhes do Evento: \n– Data: 22/05/2024\n– Morada: Ponto das Artes-Cacém\, Lisboa\n– Horário: Das 10:30 às 13:00 (manhã) e 14:00 às 18:00h (tarde)\n– *Investimento:\nManhã – 35 Euros\nTarde – 40 Euros\nDOIS PERÍODOS (DESCONTO ESPECIAL) – 65 Euros \nObs: todo o material necessário será fornecido. \nNão é necessário ter experiência prévia em pintura ou desenho. \nOs objetivos deste workshop incluem: \n– Aprender técnicas simples de aquarela botânica\, ter um tempo de qualidade para si\nObs: Os workshops são independentes no quesito aprendizado. Não há pré-requisitos em fazer um para fazer o outro. \nPara te inscreveres\, preenchas o formulário: \nhttps://forms.gle/SLzKdqqgcdXYuPcz9 \nApós preencheres\, envie comprovativo de transferência para o IBAN através de uma das opções de contato abaixo \nemail: mstrad260762@gmail.com OU\nWhatsApp: +55 11 999019545 \nDetalhes Bancários: \n– Banco: Santander Totta – Lisboa\n– IBAN: PT50 0018 0003 4786 1109 0203 3\n– Titular: Maria Silvia Trad Mascarenhas \nA inscrição é confirmada somente mediante recebimento do comprovativo.\nLembra-te de que as vagas são limitadas devido à natureza presencial do evento! \nGarante já o teu lugar!! \nAté lá! \nSilvia Trad
URL:https://silviatrad.com/evento/workshop-aquarelas-botanicas/
CATEGORIES:Cursos,Workshops
ATTACH;FMTTYPE=image/jpeg:https://silviatrad.com/wp-content/uploads/criativo-1-feed.jpg
END:VEVENT
END:VCALENDAR